BEGIN:VCALENDAR
VERSION:2.0
PRODID:-//Talks.cam//talks.cam.ac.uk//
X-WR-CALNAME:Talks.cam
BEGIN:VEVENT
SUMMARY:Women in Islam - Shaikh Akram Nadwi (research fellow at the Oxford
  Centre for Islamic Studies and author of 'The Women Scholars in Islam')
DTSTART:20090214T180000Z
DTEND:20090214T193000Z
UID:TALK16852@talks.cam.ac.uk
CONTACT:8547
DESCRIPTION:One of the most misrepresented and misunderstood issues\, we e
 xplore the status and role of women in Islam.
LOCATION:Winstanley Lecture Theatre\, Trinity College
END:VEVENT
END:VCALENDAR
