BEGIN:VCALENDAR
VERSION:2.0
PRODID:-//Talks.cam//talks.cam.ac.uk//
X-WR-CALNAME:Talks.cam
BEGIN:VEVENT
SUMMARY:Deep Neural Networks: Analysing the Training Algorithm - Gitta Kut
 yniok (Ludwig-Maximilians-Universität München)
DTSTART:20220301T100000Z
DTEND:20220301T110000Z
UID:TALK168692@talks.cam.ac.uk
DESCRIPTION:
LOCATION:Seminar Room 1\, Newton Institute
END:VEVENT
END:VCALENDAR
