BEGIN:VCALENDAR
VERSION:2.0
PRODID:-//Talks.cam//talks.cam.ac.uk//
X-WR-CALNAME:Talks.cam
BEGIN:VEVENT
SUMMARY:The genetic unity of the Afroasiatic phylum and its six coordinate
  families (Ancient Egyptian\, Berber\, Chadic\, Cushitic\, Omotic\, and Se
 mitic) - Professor Philip Jaggar\, SOAS
DTSTART:20090302T160000Z
DTEND:20090302T170000Z
UID:TALK16876@talks.cam.ac.uk
CONTACT:Geoffrey Khan
DESCRIPTION:Abstract not available
LOCATION:Room 7\, Faculty of Asian and Middle Eastern Studies
END:VEVENT
END:VCALENDAR
