BEGIN:VCALENDAR
VERSION:2.0
PRODID:-//Talks.cam//talks.cam.ac.uk//
X-WR-CALNAME:Talks.cam
BEGIN:VEVENT
SUMMARY:Giving of ourselves - Dr Ayesha Nathoo\, History and Philosophy of
  Science\, University of Cambridge
DTSTART:20090219T193000Z
DTEND:20090219T210000Z
UID:TALK16991@talks.cam.ac.uk
CONTACT:Katie Taylor
DESCRIPTION:In this talk\, Dr Ayesha Nathoo will address the social\, hist
 orical and ethical determinants of organ donation policies and practices. 
 In particular she will focus on the media representations and public campa
 igns that have shaped attitudes towards donation since the 1960s. By under
 standing the reasons why people agree to give parts of their own bodies to
  those in need\, this talk will explore broader humanitarian efforts to al
 leviate the suffering of strangers.\n\n\n
LOCATION:Graduate Union\, Lounge
END:VEVENT
END:VCALENDAR
