BEGIN:VCALENDAR
VERSION:2.0
PRODID:-//Talks.cam//talks.cam.ac.uk//
X-WR-CALNAME:Talks.cam
BEGIN:VEVENT
SUMMARY:Cartan Connections and Integrable Vortex Equations - Calum Ross (U
 CL)
DTSTART:20220215T160000Z
DTEND:20220215T170000Z
UID:TALK169931@talks.cam.ac.uk
CONTACT:Professor Maciej Dunajski
DESCRIPTION:Abstract not available
LOCATION:MR9
END:VEVENT
END:VCALENDAR
