BEGIN:VCALENDAR
VERSION:2.0
PRODID:-//Talks.cam//talks.cam.ac.uk//
X-WR-CALNAME:Talks.cam
BEGIN:VEVENT
SUMMARY:Causal Modelling with Kernels: Treatment Effects\, Counterfactuals
 \, Mediation\, and Proxies - Arthur Gretton (Gatsby Computational Neurosci
 ence Unit\, UCL)
DTSTART:20220211T160000Z
DTEND:20220211T170000Z
UID:TALK170201@talks.cam.ac.uk
CONTACT:Ferenc Huszár
DESCRIPTION:Abstract not available
LOCATION:SS03 - William Gates Building
END:VEVENT
END:VCALENDAR
