BEGIN:VCALENDAR
VERSION:2.0
PRODID:-//Talks.cam//talks.cam.ac.uk//
X-WR-CALNAME:Talks.cam
BEGIN:VEVENT
SUMMARY:PyRoss project - Ronojoy Adhikari (University of Cambridge)
DTSTART:20220324T134500Z
DTEND:20220324T141500Z
UID:TALK170255@talks.cam.ac.uk
DESCRIPTION:
LOCATION:No Room Required
END:VEVENT
END:VCALENDAR
