BEGIN:VCALENDAR
VERSION:2.0
PRODID:-//Talks.cam//talks.cam.ac.uk//
X-WR-CALNAME:Talks.cam
BEGIN:VEVENT
SUMMARY:G-bundles on elliptic curves and quantum groups - Hernandez\, D (C
 NRS)
DTSTART:20090219T150000Z
DTEND:20090219T160000Z
UID:TALK17072@talks.cam.ac.uk
CONTACT:Mustapha Amrani
DESCRIPTION:
LOCATION:Seminar Room 1\, Newton Institute
END:VEVENT
END:VCALENDAR
