BEGIN:VCALENDAR
VERSION:2.0
PRODID:-//Talks.cam//talks.cam.ac.uk//
X-WR-CALNAME:Talks.cam
BEGIN:VEVENT
SUMMARY:High-power lasers and the extreme conditions that they can produce
  - Steven Rose\, Plasma Physics Group\, Imperial College\, London
DTSTART:20090514T150000Z
DTEND:20090514T160000Z
UID:TALK17077@talks.cam.ac.uk
CONTACT:Stephen Walley
DESCRIPTION:When interacting with matter\, high-power lasers can produce p
 lasmas with the highest macroscopic energy density that can be obtained in
  the laboratory. Such plasmas can also exhibit the most extreme values of 
 other quantities\, notably pressure\, density\, velocity\, velocity gradie
 nt and acceleration. In this talk the author will describe experiments und
 ertaken to date that investigate material under these extreme conditions a
 s well as future experiments that are planned for the next generation of h
 igh-power lasers.
LOCATION:Mott Seminar Room\, Cavendish Laboratory\, Department of Physics
END:VEVENT
END:VCALENDAR
