BEGIN:VCALENDAR
VERSION:2.0
PRODID:-//Talks.cam//talks.cam.ac.uk//
X-WR-CALNAME:Talks.cam
BEGIN:VEVENT
SUMMARY:Neutron scattering studies of quantum magnets’&quot\; - Prof Bel
 la Lake\, Helmholtz Zentrum Berlin
DTSTART:20220302T160000Z
DTEND:20220302T170000Z
UID:TALK170834@talks.cam.ac.uk
CONTACT:Leona Hope-Coles
DESCRIPTION:Abstract not available
LOCATION:Pippard lecture theatre and https://tinyurl.com/3fpmjscv 
END:VEVENT
END:VCALENDAR
