BEGIN:VCALENDAR
VERSION:2.0
PRODID:-//Talks.cam//talks.cam.ac.uk//
X-WR-CALNAME:Talks.cam
BEGIN:VEVENT
SUMMARY:Mixing times for the TASEP on the circle - Dominik Schmid (Princet
 on and Bonn)
DTSTART:20220308T140000Z
DTEND:20220308T150000Z
UID:TALK170873@talks.cam.ac.uk
CONTACT:Perla Sousi
DESCRIPTION:The exclusion process is one of the best-studied examples of a
 n interacting particle system. In this talk\, we consider simple exclusion
  processes on finite graphs. We give an overview over some recent results 
 on the mixing time of the totally asymmetric simple exclusion process (TAS
 EP). In particular\, we provide bounds on the mixing time of the TASEP on 
 the circle\, using a connection to periodic last passage percolation. This
  talk is based on joint work with Allan Sly (Princeton). 
LOCATION:MR12
END:VEVENT
END:VCALENDAR
