BEGIN:VCALENDAR
VERSION:2.0
PRODID:-//Talks.cam//talks.cam.ac.uk//
X-WR-CALNAME:Talks.cam
BEGIN:VEVENT
SUMMARY:Consistency of Bayesian Inference for a Parabolic Inverse Problem 
 - Hanne Kekkonen (Delft University of Technology)
DTSTART:20220526T101500Z
DTEND:20220526T110000Z
UID:TALK170993@talks.cam.ac.uk
DESCRIPTION:
LOCATION:No Room Required
END:VEVENT
END:VCALENDAR
