BEGIN:VCALENDAR
VERSION:2.0
PRODID:-//Talks.cam//talks.cam.ac.uk//
X-WR-CALNAME:Talks.cam
BEGIN:VEVENT
SUMMARY:Birth weight and the risk of cardiovascular disease - Professor Go
 rdon Smith\, Dep. of Obstetrics and Gynaecology
DTSTART:20090401T112000Z
DTEND:20090401T115000Z
UID:TALK17126@talks.cam.ac.uk
CONTACT:Gigi Moller
DESCRIPTION:Abstract not available
LOCATION:Centre for Mathematical Sciences\, Meeting Room 2
END:VEVENT
END:VCALENDAR
