BEGIN:VCALENDAR
VERSION:2.0
PRODID:-//Talks.cam//talks.cam.ac.uk//
X-WR-CALNAME:Talks.cam
BEGIN:VEVENT
SUMMARY:Women in Science: what women and men should know - Range of female
  scientists
DTSTART:20090223T141500Z
DTEND:20090223T154500Z
UID:TALK17144@talks.cam.ac.uk
CONTACT:13101
DESCRIPTION:All are invited to a mini-symposium to explore special issues 
 that women may face in pursuing a successful career in science and related
  endeavours.  \n\nThe afternoon will comprise informal talks by a number o
 f female scientists at different career stages\, and includes both bench s
 cientists and women whose careers have used science in different ways incl
 uding science communication and science careers advice.  After approximate
 ly an hour and half of presentation and discussion\, we warmly welcome you
  to join us for tea\, cakes and networking in the Postgraduate Lounge of t
 he Clinical School.  This event is suitable not only for female students a
 nd post-docs. but also for male scientists\, who may be interested in thes
 e issues and how they may affect  partners/families either now or in the f
 uture.\n\n\n
LOCATION:Lecture Theatre 2\, Clinical School\, Addenbrooke’s
END:VEVENT
END:VCALENDAR
