BEGIN:VCALENDAR
VERSION:2.0
PRODID:-//Talks.cam//talks.cam.ac.uk//
X-WR-CALNAME:Talks.cam
BEGIN:VEVENT
SUMMARY:The dependence of plant cell wall assembly and function on polysac
 charide structure - Professor Paul Dupree (Department of Biochemistry\, Un
 iversity of Cambridge)
DTSTART:20220331T120000Z
DTEND:20220331T130000Z
UID:TALK172073@talks.cam.ac.uk
CONTACT:Sainsbury Laboratory
DESCRIPTION:Abstract not available
LOCATION:Online (Zoom meeting). Contact events@slcu.cam.ac.uk for meeting 
 joining details
END:VEVENT
END:VCALENDAR
