BEGIN:VCALENDAR
VERSION:2.0
PRODID:-//Talks.cam//talks.cam.ac.uk//
X-WR-CALNAME:Talks.cam
BEGIN:VEVENT
SUMMARY:'The Career of a Peasant Saint: St. Isidore the Labourer' - Paul F
 reedman (Yale)
DTSTART:20090526T170000Z
DTEND:20090526T180000Z
UID:TALK17232@talks.cam.ac.uk
CONTACT:Virginia Langum
DESCRIPTION:Paul Freedman is the Chester D. Tripp Professor of History at 
 Yale University. His publications include Out of the East: Spices and the 
 Medieval Imagination\, Images of the Medieval Peasant and The Origins of P
 easant Servitude in Medieval Catalonia.\n\n
LOCATION:Parlour\, Magdalene College
END:VEVENT
END:VCALENDAR
