BEGIN:VCALENDAR
VERSION:2.0
PRODID:-//Talks.cam//talks.cam.ac.uk//
X-WR-CALNAME:Talks.cam
BEGIN:VEVENT
SUMMARY:Viscoelastic Effects in Embryology - Lisa  Manning  (Syracuse Univ
 ersity)
DTSTART:20220907T124000Z
DTEND:20220907T132000Z
UID:TALK172550@talks.cam.ac.uk
DESCRIPTION:
LOCATION:Centre for Mathematical Sciences
END:VEVENT
END:VCALENDAR
