BEGIN:VCALENDAR
VERSION:2.0
PRODID:-//Talks.cam//talks.cam.ac.uk//
X-WR-CALNAME:Talks.cam
BEGIN:VEVENT
SUMMARY:CSBC Journal Club - Prof. Steve Oliver
DTSTART:20080313T120000Z
DTEND:20080313T130000Z
UID:TALK17268@talks.cam.ac.uk
CONTACT:Debbie Promosso
DESCRIPTION:Presentation of the paper by: M. Raiser et al. (2007) Dynamic 
 re-routing of the carbohydrate flux is key to counteracting oxidative stre
 ss. Journal of Biology\, Vol. 6\, Art. 10
LOCATION:Seminar Room\, Sanger Building
END:VEVENT
END:VCALENDAR
