BEGIN:VCALENDAR
VERSION:2.0
PRODID:-//Talks.cam//talks.cam.ac.uk//
X-WR-CALNAME:Talks.cam
BEGIN:VEVENT
SUMMARY:Gunter is sixty something - Michel Broué (Université Paris 7 - D
 enis-Diderot)
DTSTART:20220511T080000Z
DTEND:20220511T085000Z
UID:TALK172796@talks.cam.ac.uk
DESCRIPTION:
LOCATION:Seminar Room 1\, Newton Institute
END:VEVENT
END:VCALENDAR
