BEGIN:VCALENDAR
VERSION:2.0
PRODID:-//Talks.cam//talks.cam.ac.uk//
X-WR-CALNAME:Talks.cam
BEGIN:VEVENT
SUMMARY:Theory of the Phase Diagarm of the Cuprates - Chandra Varma\, Univ
 ersity of California Riverside
DTSTART:20090527T101500Z
DTEND:20090527T111500Z
UID:TALK17381@talks.cam.ac.uk
CONTACT:Michael Sutherland
DESCRIPTION:Abstract not available
LOCATION:Mott Seminar Room\, Cavendish Laboratory\, Department of Physics
END:VEVENT
END:VCALENDAR
