BEGIN:VCALENDAR
VERSION:2.0
PRODID:-//Talks.cam//talks.cam.ac.uk//
X-WR-CALNAME:Talks.cam
BEGIN:VEVENT
SUMMARY:Canonical heights and the Andre-Oort conjecture - Ananth Shankar (
 University of Wisonsin)
DTSTART:20220517T133000Z
DTEND:20220517T143000Z
UID:TALK173960@talks.cam.ac.uk
CONTACT:Rong Zhou
DESCRIPTION:Let S be a Shimura variety. The Andre-Oort conjecture posits t
 hat the Zariski closure of special points must be a sub Shimura subvariety
  of S. The Andre-Oort conjecture for A_g (the moduli space of principally 
 polarized Abelian varieties) — and therefore its sub Shimura varieties 
 — was proved by Jacob Tsimerman. However\, this conjecture was unknown f
 or Shimura varieties without a moduli interpretation. I will describe join
 t work with Jonathan Pila and Jacob Tsimerman (with an appendix by Esnault
 -Groechenig) where we prove the Andre Oort conjecture in full generality.
LOCATION:https://maths-cam-ac-uk.zoom.us/j/92192959944?pwd=OVJ3d0pJS3RRaWh
 KOVBuMFJIM3FiQT09
END:VEVENT
END:VCALENDAR
