BEGIN:VCALENDAR
VERSION:2.0
PRODID:-//Talks.cam//talks.cam.ac.uk//
X-WR-CALNAME:Talks.cam
BEGIN:VEVENT
SUMMARY:Talk 3 Aerosols\, Ventilation and the Environment: Competing Agoni
 st-Antagonists - Stuart Dalziel (University of Cambridge)
DTSTART:20220622T095500Z
DTEND:20220622T102000Z
UID:TALK175082@talks.cam.ac.uk
DESCRIPTION:
LOCATION:No Room Required
END:VEVENT
END:VCALENDAR
