BEGIN:VCALENDAR
VERSION:2.0
PRODID:-//Talks.cam//talks.cam.ac.uk//
X-WR-CALNAME:Talks.cam
BEGIN:VEVENT
SUMMARY:A recursive formula for plethysm coefficients and some application
 s - Stacey  Law (University of Cambridge)
DTSTART:20220712T101500Z
DTEND:20220712T111500Z
UID:TALK175640@talks.cam.ac.uk
DESCRIPTION:Plethysms lie at the intersection of the representation theory
  of symmetric groups\, algebraic combinatorics and symmetric functions. We
  give a recursive formula for a family of plethysm coefficients encompassi
 ng those involved in Foulkes' Conjecture\, and describe some applications 
 to the stability of plethysm coefficients and Sylow branching coefficients
  for symmetric groups. This is joint work with Y. Okitani\, and expands on
  my previous talk for the workshop 'Counting conjectures and beyond'.
LOCATION:Seminar Room 2\, Newton Institute
END:VEVENT
END:VCALENDAR
