BEGIN:VCALENDAR
VERSION:2.0
PRODID:-//Talks.cam//talks.cam.ac.uk//
X-WR-CALNAME:Talks.cam
BEGIN:VEVENT
SUMMARY:Dispersive shock wave of the KP equation - Yuji Kodama (Ohio State
  University)
DTSTART:20220714T080000Z
DTEND:20220714T090000Z
UID:TALK175871@talks.cam.ac.uk
DESCRIPTION: I start with a brief overview of DSW of the KdV equation\, an
 d then propose a problem with a particular initial data for the KP equatio
 n. The solution has an interesting 2-dimensional pattern due to the nonlin
 ear interaction of the DSW. I will also give a brief review of the KP soli
 tons as obtained from singular limits of the quasi-periodic solution\, whi
 ch may help to understand the 2-dimensional patterns generated by DSW.
LOCATION:Seminar Room 1\, Newton Institute
END:VEVENT
END:VCALENDAR
