BEGIN:VCALENDAR
VERSION:2.0
PRODID:-//Talks.cam//talks.cam.ac.uk//
X-WR-CALNAME:Talks.cam
BEGIN:VEVENT
SUMMARY:The Neuropsychiatry of the Tuberous Sclerosis Complex - Dr Petrus 
 de Vries\, Consultant in Developmental Neuropsychiatry\,  Peterborough Dis
 trict Hospital
DTSTART:20090828T113000Z
DTEND:20090828T123000Z
UID:TALK17600@talks.cam.ac.uk
CONTACT:Hisham Ziauddeen
DESCRIPTION:Abstract not available
LOCATION:Seminar Room 3\, Clinical School\, Addenbrookes Hospital\, Cambri
 dge.
END:VEVENT
END:VCALENDAR
