BEGIN:VCALENDAR
VERSION:2.0
PRODID:-//Talks.cam//talks.cam.ac.uk//
X-WR-CALNAME:Talks.cam
BEGIN:VEVENT
SUMMARY: “In vivo assessment of synaptic loss in non-AD tauopathies”  
 - Dr Negin Holland\, University of Cambridge
DTSTART:20220623T110000Z
DTEND:20220623T120000Z
UID:TALK176012@talks.cam.ac.uk
CONTACT:Louise Massara
DESCRIPTION:Join Zoom Meeting\nhttps://us02web.zoom.us/j/85775356337?pwd=O
 HRyd0I1QUdGbWFua0JkSHJlUU4xUT09\n\nMeeting ID: 857 7535 6337\nPasscode: 51
 9271\n
LOCATION:Zoom (link will be given in Abstract)
END:VEVENT
END:VCALENDAR
