BEGIN:VCALENDAR
VERSION:2.0
PRODID:-//Talks.cam//talks.cam.ac.uk//
X-WR-CALNAME:Talks.cam
BEGIN:VEVENT
SUMMARY:Intro to the theta correspondence III - Stephen Kudla (University 
 of Toronto)
DTSTART:20220804T150000Z
DTEND:20220804T160000Z
UID:TALK176201@talks.cam.ac.uk
DESCRIPTION:
LOCATION:Seminar Room 1\, Newton Institute
END:VEVENT
END:VCALENDAR
