BEGIN:VCALENDAR
VERSION:2.0
PRODID:-//Talks.cam//talks.cam.ac.uk//
X-WR-CALNAME:Talks.cam
BEGIN:VEVENT
SUMMARY:Small representations II - Gordan Savin (University of Utah)
DTSTART:20220805T080000Z
DTEND:20220805T090000Z
UID:TALK176204@talks.cam.ac.uk
DESCRIPTION:This a continuation of the previous talk.&nbsp\;
LOCATION:Seminar Room 1\, Newton Institute
END:VEVENT
END:VCALENDAR
