BEGIN:VCALENDAR
VERSION:2.0
PRODID:-//Talks.cam//talks.cam.ac.uk//
X-WR-CALNAME:Talks.cam
BEGIN:VEVENT
SUMMARY:Treading the dwarf-cluster divide: A curiously extended cluster in
  the M31 halo - Michelle Collins
DTSTART:20090513T124500Z
DTEND:20090513T131500Z
UID:TALK17625@talks.cam.ac.uk
CONTACT:Dr. Daniel Nestor
DESCRIPTION:Abstract not available
LOCATION:Sackler Lecture Theatre\, IoA
END:VEVENT
END:VCALENDAR
