BEGIN:VCALENDAR
VERSION:2.0
PRODID:-//Talks.cam//talks.cam.ac.uk//
X-WR-CALNAME:Talks.cam
BEGIN:VEVENT
SUMMARY:Conjugated organic and carbon nitride photocatalysts for solar dri
 ven hydrogen synthesis: insights from time resolved spectroscopies - Prof 
 James Durrant\, ICL
DTSTART:20220901T130000Z
DTEND:20220901T140000Z
UID:TALK176456@talks.cam.ac.uk
CONTACT:Chloe Barker
DESCRIPTION:Abstract not available
LOCATION:Scott Polar Research Institute Lecture Theatre
END:VEVENT
END:VCALENDAR
