BEGIN:VCALENDAR
VERSION:2.0
PRODID:-//Talks.cam//talks.cam.ac.uk//
X-WR-CALNAME:Talks.cam
BEGIN:VEVENT
SUMMARY:Coffee in Godwin - Andrew Buchan (IoA)
DTSTART:20221027T100000Z
DTEND:20221027T110000Z
UID:TALK176723@talks.cam.ac.uk
CONTACT:Paul B. Rimmer
DESCRIPTION:A discussion on the origins of the elements and how Earth got 
 the ones it has.
LOCATION:Godwin Room\, Clare College
END:VEVENT
END:VCALENDAR
