BEGIN:VCALENDAR
VERSION:2.0
PRODID:-//Talks.cam//talks.cam.ac.uk//
X-WR-CALNAME:Talks.cam
BEGIN:VEVENT
SUMMARY:Survival analysis-based uncertainty estimation for regression prob
 lems - Sören Dittmer (University of Cambridge)
DTSTART:20220726T115000Z
DTEND:20220726T115500Z
UID:TALK176801@talks.cam.ac.uk
DESCRIPTION:
LOCATION:Centre for Mathematical Sciences
END:VEVENT
END:VCALENDAR
