BEGIN:VCALENDAR
VERSION:2.0
PRODID:-//Talks.cam//talks.cam.ac.uk//
X-WR-CALNAME:Talks.cam
BEGIN:VEVENT
SUMMARY:Jan Saxl Memorial Day: Exceptional Polynomials and Generation by C
 onjugates - Robert Guralnick (University of Southern California)
DTSTART:20220722T142000Z
DTEND:20220722T145000Z
UID:TALK176867@talks.cam.ac.uk
DESCRIPTION:I will discuss some of my joint work with Jan including a disc
 ussion of exceptional polynomials over finite fields and generation of alm
 ost simple groups by conjugates.\n&nbsp\;
LOCATION:Centre for Mathematical Sciences
END:VEVENT
END:VCALENDAR
