BEGIN:VCALENDAR
VERSION:2.0
PRODID:-//Talks.cam//talks.cam.ac.uk//
X-WR-CALNAME:Talks.cam
BEGIN:VEVENT
SUMMARY:Networking Event 2009 - Dr. Andy Richards
DTSTART:20090307T160000Z
DTEND:20090307T190000Z
UID:TALK17697@talks.cam.ac.uk
CONTACT:13605
DESCRIPTION:The Cambridge University Technology & Enterprise Club successf
 ully hosted over 180 students at their first Networking Event\, held on Ma
 rch 7th at the Judge Business School\, Cambridge\, UK. The event attracted
  students representing 10 entrepreneurial clubs from France\, Denmark\, an
 d the UK and caught the attention of the Higher Education Funding Council 
 for England (HEFCE) and national media who reported on the afternoon’s a
 ctivities.\n\n
LOCATION:Judge Business School
END:VEVENT
END:VCALENDAR
