BEGIN:VCALENDAR
VERSION:2.0
PRODID:-//Talks.cam//talks.cam.ac.uk//
X-WR-CALNAME:Talks.cam
BEGIN:VEVENT
SUMMARY:Dynamics and Stability of Flow Structures in Liquid Metal Batterie
 s - Douglas  Kelley (University of Rochester)
DTSTART:20221115T155000Z
DTEND:20221115T162500Z
UID:TALK177095@talks.cam.ac.uk
DESCRIPTION:
LOCATION:Seminar Room 1\, Newton Institute
END:VEVENT
END:VCALENDAR
