BEGIN:VCALENDAR
VERSION:2.0
PRODID:-//Talks.cam//talks.cam.ac.uk//
X-WR-CALNAME:Talks.cam
BEGIN:VEVENT
SUMMARY:Ecosystem: BedRock - Gregory Malecha (Bed Rock Systems)
DTSTART:20220803T143000Z
DTEND:20220803T144500Z
UID:TALK177167@talks.cam.ac.uk
DESCRIPTION:BedRock Systems is developing a verification toolchain for C++
  programs to support the verification of the BedRock Hypervisor(tm)\, a mo
 dern\, microkernel-based virtualization stack. The verification toolchain 
 is built on the BRiCk program logic for C++ which supports a subset of C++
  suitable for the verification of systems programs. In the talk\, we prese
 nt the BRiCk system overall and some of our experiences using it.
LOCATION:Seminar Room 2\, Newton Institute
END:VEVENT
END:VCALENDAR
