BEGIN:VCALENDAR
VERSION:2.0
PRODID:-//Talks.cam//talks.cam.ac.uk//
X-WR-CALNAME:Talks.cam
BEGIN:VEVENT
SUMMARY:Pinning-depinning transition in Random Polymers - Nikos Zygouras (
 Warwick)
DTSTART:20090421T130000Z
DTEND:20090421T140000Z
UID:TALK17735@talks.cam.ac.uk
CONTACT:Berestycki
DESCRIPTION:\nhttp://www.statslab.cam.ac.uk/~beresty/Seminar/abstract_pinn
 ing.pdf\n
LOCATION:MR12\, CMS\, Wilberforce Road\, Cambridge\, CB3 0WB
END:VEVENT
END:VCALENDAR
