BEGIN:VCALENDAR
VERSION:2.0
PRODID:-//Talks.cam//talks.cam.ac.uk//
X-WR-CALNAME:Talks.cam
BEGIN:VEVENT
SUMMARY:Fun and controversy in modelling polarons - Prof Alexander Shluger
  (University College London)
DTSTART:20090501T110000Z
DTEND:20090501T120000Z
UID:TALK17743@talks.cam.ac.uk
CONTACT:Dr Mark Miller
DESCRIPTION:Abstract not available
LOCATION:Unilever Lecture Theatre\, Department of Chemistry
END:VEVENT
END:VCALENDAR
