BEGIN:VCALENDAR
VERSION:2.0
PRODID:-//Talks.cam//talks.cam.ac.uk//
X-WR-CALNAME:Talks.cam
BEGIN:VEVENT
SUMMARY:Solar and Stellar Fields:  Dynamical Systems\, Reduced Models and 
 Data in Dynamos (Keynote speaker) - Steven Tobias (University of Leeds)
DTSTART:20220912T124500Z
DTEND:20220912T134500Z
UID:TALK177470@talks.cam.ac.uk
DESCRIPTION:In this talk I will review what is known about the behaviour o
 f global solar and stellar magnetic fields. I will then discuss methods fr
 om dynamical systems and data-driven fluid dynamics for deriving reduced m
 odels for the generation of this systematic behaviour\, incluiding a discu
 ssion of the recovery of systems of equations from data and prediction of 
 future transitions. I will argue that it is only by understanding the unde
 rlying physical and mathematical nature of the dynamo equations and paying
  careful attention to observational signatures that a full understanding o
 f the interactions will emerge.
LOCATION:Seminar Room 1\, Newton Institute
END:VEVENT
END:VCALENDAR
