BEGIN:VCALENDAR
VERSION:2.0
PRODID:-//Talks.cam//talks.cam.ac.uk//
X-WR-CALNAME:Talks.cam
BEGIN:VEVENT
SUMMARY:Understanding the Sagittarius dwarf galaxy - Wyn Evans\, Mike Irwi
 n\, Vasily Belokurov &amp\; Jorge Penarrubia
DTSTART:20090403T150000Z
DTEND:20090403T160000Z
UID:TALK17766@talks.cam.ac.uk
CONTACT:Martin C. Smith
DESCRIPTION:Wyn\, Mike\, Vasily & Jorge will join forces to give us a comp
 rehensive review of the Sagittarius dwarf galaxy. They will discuss the im
 portant observational papers and subsequent numerical models\, followed by
  a presentation of the latest findings from SDSS data and Jorge's attempts
  to put it all together in a model.\n
LOCATION:Sackler Lecture Theatre\, IoA
END:VEVENT
END:VCALENDAR
