BEGIN:VCALENDAR
VERSION:2.0
PRODID:-//Talks.cam//talks.cam.ac.uk//
X-WR-CALNAME:Talks.cam
BEGIN:VEVENT
SUMMARY:Questions + Changeover - 
DTSTART:20220831T085000Z
DTEND:20220831T090000Z
UID:TALK177674@talks.cam.ac.uk
DESCRIPTION:
LOCATION:No Room Required
END:VEVENT
END:VCALENDAR
