BEGIN:VCALENDAR
VERSION:2.0
PRODID:-//Talks.cam//talks.cam.ac.uk//
X-WR-CALNAME:Talks.cam
BEGIN:VEVENT
SUMMARY:Integrable PDEs and Miura invariants - Paolo Lorenzoni (Universit
 à degli Studi di Milano - Bicocca)
DTSTART:20220905T143000Z
DTEND:20220905T153000Z
UID:TALK177815@talks.cam.ac.uk
DESCRIPTION:
LOCATION:Seminar Room 1\, Newton Institute
END:VEVENT
END:VCALENDAR
