BEGIN:VCALENDAR
VERSION:2.0
PRODID:-//Talks.cam//talks.cam.ac.uk//
X-WR-CALNAME:Talks.cam
BEGIN:VEVENT
SUMMARY:Small amplitude water waves in a domain with inclined walls - Pana
 yotis Panayotaros (Universidad Nacional Autonoma de Mexico (UNAM))
DTSTART:20220908T103000Z
DTEND:20220908T113000Z
UID:TALK177860@talks.cam.ac.uk
DESCRIPTION:
LOCATION:Seminar Room 1\, Newton Institute
END:VEVENT
END:VCALENDAR
