BEGIN:VCALENDAR
VERSION:2.0
PRODID:-//Talks.cam//talks.cam.ac.uk//
X-WR-CALNAME:Talks.cam
BEGIN:VEVENT
SUMMARY:Role of aryl hydrocarbon receptor in immune responses - Marc Veldh
 oen\, NIMR\, London
DTSTART:20090703T120000Z
DTEND:20090703T130000Z
UID:TALK17796@talks.cam.ac.uk
CONTACT:Denise Schofield
DESCRIPTION:Abstract not available
LOCATION:Sackler Lecture Theatre (Level 7)\, Cambridge Institute for Medic
 al Research
END:VEVENT
END:VCALENDAR
