BEGIN:VCALENDAR
VERSION:2.0
PRODID:-//Talks.cam//talks.cam.ac.uk//
X-WR-CALNAME:Talks.cam
BEGIN:VEVENT
SUMMARY:Synthesis of Bridged Natural Products - Speaker to be confirmed
DTSTART:20090601T160000Z
DTEND:20090601T170000Z
UID:TALK17823@talks.cam.ac.uk
CONTACT:Joanne Castle
DESCRIPTION:Abstract not available
LOCATION:Pfizer Lecture Theatre\,  Department of Chemistry
END:VEVENT
END:VCALENDAR
