BEGIN:VCALENDAR
VERSION:2.0
PRODID:-//Talks.cam//talks.cam.ac.uk//
X-WR-CALNAME:Talks.cam
BEGIN:VEVENT
SUMMARY:A gentle introduction to overconvergent modular forms - Lloyd Kilf
 ord (Bristol)
DTSTART:20090421T133000Z
DTEND:20090421T143000Z
UID:TALK17845@talks.cam.ac.uk
CONTACT:Tom Fisher
DESCRIPTION:In this talk we will give a general and gentle introduction to
  the subject of overconvergent modular forms\, using explicit examples to 
 motivate the theory and showcase some recent results.
LOCATION:MR13
END:VEVENT
END:VCALENDAR
