BEGIN:VCALENDAR
VERSION:2.0
PRODID:-//Talks.cam//talks.cam.ac.uk//
X-WR-CALNAME:Talks.cam
BEGIN:VEVENT
SUMMARY:Fit for this world - cellular properties are set during critical p
 eriods of development - Matthias Landgraf\, Department of Zoology
DTSTART:20221118T131500Z
DTEND:20221118T140000Z
UID:TALK179072@talks.cam.ac.uk
CONTACT:Theresa Gross-Thebing
DESCRIPTION:Abstract not available
LOCATION:Biffen Theater- Please subscribe to mailing list for link
END:VEVENT
END:VCALENDAR
