BEGIN:VCALENDAR
VERSION:2.0
PRODID:-//Talks.cam//talks.cam.ac.uk//
X-WR-CALNAME:Talks.cam
BEGIN:VEVENT
SUMMARY:Configurations\, scanning and planetary systems - Andreas Stavrou\
 , University of Cambridge
DTSTART:20221021T150000Z
DTEND:20221021T160000Z
UID:TALK180359@talks.cam.ac.uk
CONTACT:Macarena Arenas
DESCRIPTION:This is a survey talk on configuration spaces. After defining 
 them and situating them in the mathematical landscape\, I will introduce a
  common method to study their homology\, the so-called scanning. Focusing 
 on ordered configurations of discs\, I will discuss how their homology is 
 related to planetary systems and\, time permitting\, the little discs and 
 the Lie operad. 
LOCATION:MR13
END:VEVENT
END:VCALENDAR
