BEGIN:VCALENDAR
VERSION:2.0
PRODID:-//Talks.cam//talks.cam.ac.uk//
X-WR-CALNAME:Talks.cam
BEGIN:VEVENT
SUMMARY:Can you see what I hear? The effects of early blindness on auditor
 y processing - Dr Ione Fine (University of Washington)
DTSTART:20221111T163000Z
DTEND:20221111T180000Z
UID:TALK180440@talks.cam.ac.uk
CONTACT:John Mollon
DESCRIPTION:Abstract not available
LOCATION:Ground Floor Lecture Theatre\, Department of  Psychology
END:VEVENT
END:VCALENDAR
