BEGIN:VCALENDAR
VERSION:2.0
PRODID:-//Talks.cam//talks.cam.ac.uk//
X-WR-CALNAME:Talks.cam
BEGIN:VEVENT
SUMMARY:The design of service - Lucy Kimbell\, University of Oxford
DTSTART:20091103T120000Z
DTEND:20091103T140000Z
UID:TALK18282@talks.cam.ac.uk
CONTACT:Peter Wild
DESCRIPTION:TBA
LOCATION:Wordsworth Room\, St John’s College
END:VEVENT
END:VCALENDAR
